BEGIN:VCALENDAR
VERSION:2.0
PRODID:-//Local Food Peterborough - ECPv6.15.12.2//NONSGML v1.0//EN
CALSCALE:GREGORIAN
METHOD:PUBLISH
X-WR-CALNAME:Local Food Peterborough
X-ORIGINAL-URL:https://localfoodptbo.ca
X-WR-CALDESC:Events for Local Food Peterborough
REFRESH-INTERVAL;VALUE=DURATION:PT1H
X-Robots-Tag:noindex
X-PUBLISHED-TTL:PT1H
BEGIN:VTIMEZONE
TZID:America/Toronto
BEGIN:DAYLIGHT
TZOFFSETFROM:-0500
TZOFFSETTO:-0400
TZNAME:EDT
DTSTART:20240310T070000
END:DAYLIGHT
BEGIN:STANDARD
TZOFFSETFROM:-0400
TZOFFSETTO:-0500
TZNAME:EST
DTSTART:20241103T060000
END:STANDARD
BEGIN:DAYLIGHT
TZOFFSETFROM:-0500
TZOFFSETTO:-0400
TZNAME:EDT
DTSTART:20250309T070000
END:DAYLIGHT
BEGIN:STANDARD
TZOFFSETFROM:-0400
TZOFFSETTO:-0500
TZNAME:EST
DTSTART:20251102T060000
END:STANDARD
BEGIN:DAYLIGHT
TZOFFSETFROM:-0500
TZOFFSETTO:-0400
TZNAME:EDT
DTSTART:20260308T070000
END:DAYLIGHT
BEGIN:STANDARD
TZOFFSETFROM:-0400
TZOFFSETTO:-0500
TZNAME:EST
DTSTART:20261101T060000
END:STANDARD
END:VTIMEZONE
BEGIN:VEVENT
DTSTART;TZID=America/Toronto:20251006T160000
DTEND;TZID=America/Toronto:20251006T180000
DTSTAMP:20260419T115655
CREATED:20250918T135926Z
LAST-MODIFIED:20250918T135926Z
UID:4531-1759766400-1759773600@localfoodptbo.ca
SUMMARY:1.5 acre Market Garden Tour - Cold Spring Organics
DESCRIPTION:About this event:\n\n\n\nCan you grow 105 varieties of organic produce on 1.5 acres? Do the numbers work?\n\nJoin Cold Spring Organics and Farms at Work for an evening exploring organic vegetable production\, permaculture principles\, regenerative agriculture\, community collaborations and protecting threatened species. Whether you’re a seasoned grower\, new to farming\, or a food enthusiast\, don’t miss this opportunity to connect with local food production and gain practical insights for your journey in agriculture. \nTour Highlights\nOrganic Vegetable Production: Learn about the certification process with CSI for the Canadian Organic Standards (COR) and how to grow healthy & nutritious chemical-free food without synthetic fertilizers.\nPermaculture Practices: Find out how permaculture design mimics self-sustaining ecosystems in nature by holistically integrating crop\, water\, and wildlife management to build resilience & adaptability for the long-term health of the land.\nRegenerative Agriculture: Learn about how Cold Springs’ regenerative agriculture methods restore & strengthen soil health and the ecosystem it supports.\nProtecting Threatened Species: See how safe spaces are created for threatened bird species around the farm. \nCommunity Collaborations: Hear about how Cold Springs engages with their community.\n\nAbout the Host \nGlen Young decided to become an organic farmer so he could make a difference. He wanted to teach his children where food comes from and cultivate their palates to value wholesome\, nutritious foods. He wanted to help build a better future – for his family & for our planet.\n\nFarms at Work is a charitable organization working to protect healthy\, active farmland across east central Ontario. For over a decade\, Farms at work has been working to support farmers\, new entrants\, and landowners through education\, mentorship\, and research.
URL:https://localfoodptbo.ca/events/1-5-acre-market-garden-tour-cold-spring-organics/
LOCATION:Cold Spring  Organic\, 8869 Spruce Grove Rd\, Campbellcroft\, Ontario\, Canada
END:VEVENT
END:VCALENDAR