BEGIN:VCALENDAR
VERSION:2.0
PRODID:-//Local Food Peterborough - ECPv6.15.12.2//NONSGML v1.0//EN
CALSCALE:GREGORIAN
METHOD:PUBLISH
X-WR-CALNAME:Local Food Peterborough
X-ORIGINAL-URL:https://localfoodptbo.ca
X-WR-CALDESC:Events for Local Food Peterborough
REFRESH-INTERVAL;VALUE=DURATION:PT1H
X-Robots-Tag:noindex
X-PUBLISHED-TTL:PT1H
BEGIN:VTIMEZONE
TZID:America/Toronto
BEGIN:DAYLIGHT
TZOFFSETFROM:-0500
TZOFFSETTO:-0400
TZNAME:EDT
DTSTART:20250309T070000
END:DAYLIGHT
BEGIN:STANDARD
TZOFFSETFROM:-0400
TZOFFSETTO:-0500
TZNAME:EST
DTSTART:20251102T060000
END:STANDARD
BEGIN:DAYLIGHT
TZOFFSETFROM:-0500
TZOFFSETTO:-0400
TZNAME:EDT
DTSTART:20260308T070000
END:DAYLIGHT
BEGIN:STANDARD
TZOFFSETFROM:-0400
TZOFFSETTO:-0500
TZNAME:EST
DTSTART:20261101T060000
END:STANDARD
BEGIN:DAYLIGHT
TZOFFSETFROM:-0500
TZOFFSETTO:-0400
TZNAME:EDT
DTSTART:20270314T070000
END:DAYLIGHT
BEGIN:STANDARD
TZOFFSETFROM:-0400
TZOFFSETTO:-0500
TZNAME:EST
DTSTART:20271107T060000
END:STANDARD
END:VTIMEZONE
BEGIN:VEVENT
DTSTART;TZID=America/Toronto:20260220T090000
DTEND;TZID=America/Toronto:20260220T140000
DTSTAMP:20260419T170610
CREATED:20260107T142602Z
LAST-MODIFIED:20260107T142900Z
UID:4542-1771578000-1771596000@localfoodptbo.ca
SUMMARY:Farmland Ownership: Opportunities\, Connections and Answers
DESCRIPTION:Seeking non-farming owners of farmland!\nFarms at Work is inviting registrations for a Farmland Owner Workshop\, designed for non-farming owners of farmland. Hear from a range of knowledgeable speakers and network with organizations who can help you! \nThis is  a hybrid event: Connecting in person is always the best! But if you can’t make it we still want to see you – register to participate online. \n\nTopics to Expect \n\n    Why is every acre of farmland important?\n    Farm Business Registration\, Property tax and your farm\n    Finding and keeping a great farm tenant\n    Farm Insurance\n    Environmental stewardship of your farmland\n    Funding opportunities and other resources\n    Long term options for your farmland\n\nHelp us address the topics you are most interested in! Please complete our Farmland Owner Survey in addition to registering for the workshop. \nRegister for in-person and online participation here: https://3common.com/event/farmland-ownership-opportunities-connections-and-answers/690b7bf691721e9a0cba9e85 \n\nComplete our Farmland Owner Survey here: https://docs.google.com/forms/d/e/1FAIpQLSc2N-LIfmHCte1pGqlN6SiTwKe1oBIrZz9i0RUKM3Nmur69Zg/viewform
URL:https://localfoodptbo.ca/events/farmland-ownership-opportunities-connections-and-answers/
LOCATION:Cavan Monaghan Community Centre\, 986 County Road 10\, Millbrook\, Ontario\, L0A 1G0\, Canada
END:VEVENT
END:VCALENDAR