BEGIN:VCALENDAR
VERSION:2.0
PRODID:-//Local Food Peterborough - ECPv6.15.12.2//NONSGML v1.0//EN
CALSCALE:GREGORIAN
METHOD:PUBLISH
X-WR-CALNAME:Local Food Peterborough
X-ORIGINAL-URL:https://localfoodptbo.ca
X-WR-CALDESC:Events for Local Food Peterborough
REFRESH-INTERVAL;VALUE=DURATION:PT1H
X-Robots-Tag:noindex
X-PUBLISHED-TTL:PT1H
BEGIN:VTIMEZONE
TZID:America/Toronto
BEGIN:DAYLIGHT
TZOFFSETFROM:-0500
TZOFFSETTO:-0400
TZNAME:EDT
DTSTART:20240310T070000
END:DAYLIGHT
BEGIN:STANDARD
TZOFFSETFROM:-0400
TZOFFSETTO:-0500
TZNAME:EST
DTSTART:20241103T060000
END:STANDARD
BEGIN:DAYLIGHT
TZOFFSETFROM:-0500
TZOFFSETTO:-0400
TZNAME:EDT
DTSTART:20250309T070000
END:DAYLIGHT
BEGIN:STANDARD
TZOFFSETFROM:-0400
TZOFFSETTO:-0500
TZNAME:EST
DTSTART:20251102T060000
END:STANDARD
BEGIN:DAYLIGHT
TZOFFSETFROM:-0500
TZOFFSETTO:-0400
TZNAME:EDT
DTSTART:20260308T070000
END:DAYLIGHT
BEGIN:STANDARD
TZOFFSETFROM:-0400
TZOFFSETTO:-0500
TZNAME:EST
DTSTART:20261101T060000
END:STANDARD
END:VTIMEZONE
BEGIN:VEVENT
DTSTART;TZID=America/Toronto:20250910T160000
DTEND;TZID=America/Toronto:20250910T193000
DTSTAMP:20260419T103911
CREATED:20250812T123253Z
LAST-MODIFIED:20250812T123253Z
UID:4526-1757520000-1757532600@localfoodptbo.ca
SUMMARY:Pasture Walk\, Local Dinner\, and Learning Stations at Heritage Cattle Company
DESCRIPTION:Sponsored by Sunderland Co-op\, Heritage Cattle Company and Peterborough County Dairy Producers. Proceeds will be donated to local agricultural charities – Peterborough County 4H and Farms at Work.\n\nDate: Wednesday\, September 10th\nTime: 4:00pm-7:30pm\nLocation: Heritage Cattle Company\nAddress: 690 Scriven Road\, Otonabee-South-Monaghan \nTickets: $20 online\, $25 at the door (4H members free as always)\n\nJoin Farms at Work\, Peterborough County 4H and Sunderland Co-op for a memorable night of local food and knowledge sharing.\n\nThis is an OSCIA approved Knowledge Sharing Event in the Rotational Grazing Systems category.\n\nSchedule of Events:\n4:00-5:30 pm – Pasture Walk \n\nMeet the Heritage Cattle Company Farmers Aaron and Ben MacDonald\nRotational Grazing Systems with Tim Campbell\, Pasture Specialist – Sunderland Co-op\nAlternative Parasite Control with Derek Stanley – Merck Animal Health\n\n5:30-6:15 pm – Local Supper sponsored by Sunderland Co-op and prepared by SKH Catering featuring: \n\nPulled beef from Heritage Cattle\nSKH’s famous potato salad\nMilk from local dairy farms (Kawartha Dairy)\n\nNote:  Bring your own plates and cutlery!! Bring lawn chair(s) if you wish.\n\n6:30-7:30 pm –  Information Stations \n\nCattle Handling Systems with Kloosterman Equipment\nPasture Nutrition with Elliott Stripp (Ruminant Nutritionist) & Ashley Ferren( Ruminant Feed Consultant) – Sunderland Co-op\nAsk the Vet with Dr. Greg Aitken DVM of Peterborough Veterinary Services\n\nThank you to partners Sunderland Co-op\, Heritage Cattle Company\, Peterborough County Dairy Producers\, Peterborough Veterinary Services\, Merck Animal Health\, Wallenstein Feed & Supply and the OSCIA\nIf you have questions please email Katie at education@farmsatwork.ca
URL:https://localfoodptbo.ca/events/pasture-walk-local-dinner-and-learning-stations-at-heritage-cattle-company/
LOCATION:Heritage Cattle Company\, 690 Scriven Road\, Otonabee-South-Monaghan\, Ontario\, K9J 6Y3\, Canada
END:VEVENT
END:VCALENDAR