BEGIN:VCALENDAR
VERSION:2.0
PRODID:-//Local Food Peterborough - ECPv6.15.12.2//NONSGML v1.0//EN
CALSCALE:GREGORIAN
METHOD:PUBLISH
X-ORIGINAL-URL:https://localfoodptbo.ca
X-WR-CALDESC:Events for Local Food Peterborough
REFRESH-INTERVAL;VALUE=DURATION:PT1H
X-Robots-Tag:noindex
X-PUBLISHED-TTL:PT1H
BEGIN:VTIMEZONE
TZID:America/Toronto
BEGIN:DAYLIGHT
TZOFFSETFROM:-0500
TZOFFSETTO:-0400
TZNAME:EDT
DTSTART:20240310T070000
END:DAYLIGHT
BEGIN:STANDARD
TZOFFSETFROM:-0400
TZOFFSETTO:-0500
TZNAME:EST
DTSTART:20241103T060000
END:STANDARD
BEGIN:DAYLIGHT
TZOFFSETFROM:-0500
TZOFFSETTO:-0400
TZNAME:EDT
DTSTART:20250309T070000
END:DAYLIGHT
BEGIN:STANDARD
TZOFFSETFROM:-0400
TZOFFSETTO:-0500
TZNAME:EST
DTSTART:20251102T060000
END:STANDARD
BEGIN:DAYLIGHT
TZOFFSETFROM:-0500
TZOFFSETTO:-0400
TZNAME:EDT
DTSTART:20260308T070000
END:DAYLIGHT
BEGIN:STANDARD
TZOFFSETFROM:-0400
TZOFFSETTO:-0500
TZNAME:EST
DTSTART:20261101T060000
END:STANDARD
END:VTIMEZONE
BEGIN:VEVENT
DTSTART;TZID=America/Toronto:20251128T140000
DTEND;TZID=America/Toronto:20251128T160000
DTSTAMP:20260419T131911
CREATED:20251112T172756Z
LAST-MODIFIED:20251112T172756Z
UID:4536-1764338400-1764345600@localfoodptbo.ca
SUMMARY:Alpacas for Fibre and Agritourism
DESCRIPTION:Alpacas for Fibre and Agritourism\n\nLocation: Wanderlight Alapaca Experience: 874 Lynch’s Rock Road. Douro Dummer\nTime: Friday. November 28th: 2:00pm – 4:00pm\nQuestions? Email Education@Farmsatwork.ca\n\nHow do you raise alpacas for optimum fibre production? How do you incorporate agritourism into your farming operation? Come with your curiosity and questions! \nJoin Wanderlight Alpaca Experience\, Averegan Farms and Farms at Work for an afternoon exploring the breeding\, care and delight of alpacas. This hands-on tour will include time connecting with the Wanderlight Alpacas\, and is geared toward farmers and business owners but open to folks of all interests and ages. \nTour Highlights \n\nCare and Health of the Alpaca Herd\nGenetics and Breeding of Alpacas\nShearing\, Fibre Processing and Sales\nAdding Agritourism to your Farm\n\n***Online ticket purchases are preferred\, but registration onsite at the event will also be available. Please arrive by 1:45 for in person registration. \nSome alpaca products will be available for purchase. \nAbout the Hosts \nDonna Simmonds of Averegan Alpacas has been breeding and showing alpacas and processing alpaca fibre for 20 years. From breeding decisions\, crias\, shows and day-to-day care all the way to shearing and sorting the gorgeous fleeces and processing them into the softest yarns for our alpaca products – she loves it all and is excited to share her expertise. \nKatie Maitland founded Wanderlight Alpaca Experience in 2020 to connect guests with the joy of alpacas\, the beauty of her family farm and a glimpse into agriculture. Since then over 5000 people have visited Wanderlight\, learning about alpacas\, nature and farm life. From inspirational stories to practical matters of insurance\, marketing\, and booking\, Katie is ready for your questions!For over a decade\, Farms at Work has been supporting the growth of resilient thriving farms that contribute to food security across east central Ontario and working to support farmers\, new entrants\, and farmland owners through education\, mentorship\, and research.
URL:https://localfoodptbo.ca/events/alpacas-for-fibre-and-agritourism/
LOCATION:Wanderlight Alpaca Experience\, 874 Lynch’s Rock Road\, Lakefield\, Ontario\, Canada
END:VEVENT
END:VCALENDAR